BEGIN:VCALENDAR
VERSION:2.0
PRODID:https://fedsoc.org/events/supreme-court-preview-what-is-in-store-for
 -october-term-2017
BEGIN:VEVENT
UID:63a81a66c6bad
DTSTART:20170927T160000Z
SEQUENCE:0
TRANSP:OPAQUE
DTEND:20170928T000000Z
LOCATION:1127 Connecticut Avenue Washington DC 20036
SUMMARY:Supreme Court Preview: What Is in Store for October Term 2017?
CLASS:PUBLIC
X-ALT-DESC;FMTTYPE=text/html:Event: Supreme Court Preview: What Is in Store
  for October Term 2017?\n\n Location: 1127 Connecticut Avenue Washington D
 C 20036\n\n
DTSTAMP:20221225T043950Z
END:VEVENT
END:VCALENDAR