BEGIN:VCALENDAR
VERSION:2.0
PRODID:https://fedsoc.org/events/what-role-should-the-government-play-in-he
 alth-care-critical-commentary-on-the-covid-response
BEGIN:VEVENT
UID:63a9adf626a63
DTSTART:20221130T000000Z
SEQUENCE:0
TRANSP:OPAQUE
DTEND:20221130T010001Z
LOCATION:Brown University Providence RI 02912
SUMMARY:What Role Should the Government Play in Health Care? Critical Comme
 ntary on the Covid Response
CLASS:PUBLIC
X-ALT-DESC;FMTTYPE=text/html:Event: What Role Should the Government Play in
  Health Care? Critical Commentary on the Covid Response\n\n Location: Brow
 n University Providence RI 02912\n\n
DTSTAMP:20221226T092142Z
END:VEVENT
END:VCALENDAR