BEGIN:VCALENDAR
VERSION:2.0
PRODID:https://fedsoc.org/events/looking-ahead-conservatism-after-the-2022-
 midterms
BEGIN:VEVENT
UID:63a9edb3879fb
DTSTART:20221130T220000Z
SEQUENCE:0
TRANSP:OPAQUE
DTEND:20221130T230000Z
LOCATION:Whig Senate Chamber Princeton NJ 08542
SUMMARY:Looking Ahead: Conservatism After the 2022 Midterms
CLASS:PUBLIC
X-ALT-DESC;FMTTYPE=text/html:Event: Looking Ahead: Conservatism After the 2
 022 Midterms\n\n Location: Whig Senate Chamber Princeton NJ 08542\n\n
DTSTAMP:20221226T135339Z
END:VEVENT
END:VCALENDAR