BEGIN:VCALENDAR
VERSION:2.0
PRODID:https://fedsoc.org/events/an-introduction-to-originalism-1
BEGIN:VEVENT
UID:63a861101f70c
DTSTART:20221205T170021Z
SEQUENCE:0
TRANSP:OPAQUE
DTEND:20221205T180028Z
LOCATION:100 Campus Dr Grove City PA 16127
SUMMARY:An Introduction to Originalism
CLASS:PUBLIC
X-ALT-DESC;FMTTYPE=text/html:Event: An Introduction to Originalism\n\n Loca
 tion: 100 Campus Dr Grove City PA 16127\n\n
DTSTAMP:20221225T094120Z
END:VEVENT
END:VCALENDAR