BEGIN:VCALENDAR
VERSION:2.0
PRODID:https://fedsoc.org/events/constitutionalism
BEGIN:VEVENT
UID:63a9ade69d221
DTSTART:20221130T230000Z
SEQUENCE:0
TRANSP:OPAQUE
DTEND:20221201T000000Z
LOCATION:177 College Ave Medford MA 02155
SUMMARY:Constitutionalism
CLASS:PUBLIC
X-ALT-DESC;FMTTYPE=text/html:Event: Constitutionalism\n\n Location: 177 Col
 lege Ave Medford MA 02155\n\n
DTSTAMP:20221226T092126Z
END:VEVENT
END:VCALENDAR