BEGIN:VCALENDAR
VERSION:2.0
PRODID:https://fedsoc.org/events/katz-as-originalism-the-fourth-amendment-p
 rivacy
BEGIN:VEVENT
UID:63a81a49376bb
DTSTART:20221115T205000Z
SEQUENCE:0
TRANSP:OPAQUE
DTEND:20221115T220000Z
LOCATION:225 Bancroft Way Berkeley CA 94720 
SUMMARY:Katz as Originalism: The Fourth Amendment & Privacy
CLASS:PUBLIC
X-ALT-DESC;FMTTYPE=text/html:Event: Katz as Originalism: The Fourth Amendme
 nt & Privacy\n\n Location: 225 Bancroft Way Berkeley CA 94720 \n\n
DTSTAMP:20221225T043921Z
END:VEVENT
END:VCALENDAR