BEGIN:VCALENDAR
VERSION:2.0
PRODID:https://fedsoc.org/events/ambition-and-abdication-have-we-stopped-ma
 king-laws-and-does-it-matter
BEGIN:VEVENT
UID:63a9ebe969962
DTSTART:20221117T204500Z
SEQUENCE:0
TRANSP:OPAQUE
DTEND:20221117T220000Z
LOCATION:559 Nathan Abbott Way Stanford CA 94305
SUMMARY:Ambition and Abdication: Have We Stopped Making Laws—and Does It 
 Matter?
CLASS:PUBLIC
X-ALT-DESC;FMTTYPE=text/html:Event: Ambition and Abdication: Have We Stoppe
 d Making Laws—and Does It Matter?\n\n Location: 559 Nathan Abbott Way St
 anford CA 94305\n\n
DTSTAMP:20221226T134601Z
END:VEVENT
END:VCALENDAR