BEGIN:VCALENDAR
VERSION:2.0
PRODID:https://fedsoc.org/events/the-411-on-303-previewing-303-creative-wit
 h-erin-hawley-and-professor-frederick-schauer
BEGIN:VEVENT
UID:63a9a3c2926f0
DTSTART:20221115T170000Z
SEQUENCE:0
TRANSP:OPAQUE
DTEND:20221115T183000Z
LOCATION:580 Massie Road Charlottesville VA 22903
SUMMARY:The 411 on 303: Previewing 303 Creative
CLASS:PUBLIC
X-ALT-DESC;FMTTYPE=text/html:Event: The 411 on 303: Previewing 303 Creative
 \n\n Location: 580 Massie Road Charlottesville VA 22903\n\n
DTSTAMP:20221226T083810Z
END:VEVENT
END:VCALENDAR