BEGIN:VCALENDAR
VERSION:2.0
PRODID:https://fedsoc.org/events/the-conservative-case-for-regulating-big-t
 ech-2
BEGIN:VEVENT
UID:63a9f6d644d61
DTSTART:20220928T161500Z
SEQUENCE:0
TRANSP:OPAQUE
DTEND:20220928T171500Z
LOCATION:435 W 116th St New York NY 10027
SUMMARY:The Conservative Case for Regulating Big Tech
CLASS:PUBLIC
X-ALT-DESC;FMTTYPE=text/html:Event: The Conservative Case for Regulating Bi
 g Tech\n\n Location: 435 W 116th St New York NY 10027\n\n
DTSTAMP:20221226T143238Z
END:VEVENT
END:VCALENDAR