BEGIN:VCALENDAR
VERSION:2.0
PRODID:https://fedsoc.org/events/debating-dobbs-1
BEGIN:VEVENT
UID:63a9ae71ee6e8
DTSTART:20221102T170000Z
SEQUENCE:0
TRANSP:OPAQUE
DTEND:20221102T180003Z
LOCATION:1 N Front St Memphis TN 38152
SUMMARY:Debating Dobbs
CLASS:PUBLIC
X-ALT-DESC;FMTTYPE=text/html:Event: Debating Dobbs\n\n Location: 1 N Front 
 St Memphis TN 38152\n\n
DTSTAMP:20221226T092345Z
END:VEVENT
END:VCALENDAR