BEGIN:VCALENDAR
VERSION:2.0
PRODID:https://fedsoc.org/events/can-big-tech-be-caught
BEGIN:VEVENT
UID:63a9f6c6c1a56
DTSTART:20221021T163000Z
SEQUENCE:0
TRANSP:OPAQUE
DTEND:20221021T180000Z
LOCATION:3301 Fairfax Drive  Arlington VA 22201
SUMMARY:Can Big Tech Be Caught?
CLASS:PUBLIC
X-ALT-DESC;FMTTYPE=text/html:Event: Can Big Tech Be Caught?\n\n Location: 3
 301 Fairfax Drive  Arlington VA 22201\n\n
DTSTAMP:20221226T143222Z
END:VEVENT
END:VCALENDAR