BEGIN:VCALENDAR
VERSION:2.0
PRODID:https://fedsoc.org/events/a-natural-law-argument-for-originalism
BEGIN:VEVENT
UID:63a861a0528fe
DTSTART:20221102T161500Z
SEQUENCE:0
TRANSP:OPAQUE
DTEND:20221102T171500Z
LOCATION:1025 Commons Cir Naples FL 34119
SUMMARY:A Natural Law Argument for Originalism
CLASS:PUBLIC
X-ALT-DESC;FMTTYPE=text/html:Event: A Natural Law Argument for Originalism\
 n\n Location: 1025 Commons Cir Naples FL 34119\n\n
DTSTAMP:20221225T094344Z
END:VEVENT
END:VCALENDAR