BEGIN:VCALENDAR
VERSION:2.0
PRODID:https://fedsoc.org/events/debate-big-tech-regulation
BEGIN:VEVENT
UID:63a9f6bbc1365
DTSTART:20221103T162033Z
SEQUENCE:0
TRANSP:OPAQUE
DTEND:20221103T172043Z
LOCATION:1563 Massachusetts Avenue Cambridge MA 02138
SUMMARY:Debate: Big Tech Regulation
CLASS:PUBLIC
X-ALT-DESC;FMTTYPE=text/html:Event: Debate: Big Tech Regulation\n\n Locatio
 n: 1563 Massachusetts Avenue Cambridge MA 02138\n\n
DTSTAMP:20221226T143211Z
END:VEVENT
END:VCALENDAR