BEGIN:VCALENDAR
VERSION:2.0
PRODID:https://fedsoc.org/events/carson-v-makin-and-the-future-of-school-ch
 oice-1
BEGIN:VEVENT
UID:63a9a90444bb4
DTSTART:20221026T160000Z
SEQUENCE:0
TRANSP:OPAQUE
DTEND:20221026T170000Z
LOCATION:3501 Sansom St Philadelphia PA 19103
SUMMARY:Carson v. Makin and the Future of School Choice
CLASS:PUBLIC
X-ALT-DESC;FMTTYPE=text/html:Event: Carson v. Makin and the Future of Schoo
 l Choice\n\n Location: 3501 Sansom St Philadelphia PA 19103\n\n
DTSTAMP:20221226T090036Z
END:VEVENT
END:VCALENDAR