BEGIN:VCALENDAR
VERSION:2.0
PRODID:https://fedsoc.org/events/originalism-and-the-law-of-the-past
BEGIN:VEVENT
UID:63a9abb46ebad
DTSTART:20221011T163000Z
SEQUENCE:0
TRANSP:OPAQUE
DTEND:20221011T173000Z
LOCATION:1100 Eck Hall of Law Notre Dame IN 46556
SUMMARY:Originalism and the Law of the Past
CLASS:PUBLIC
X-ALT-DESC;FMTTYPE=text/html:Event: Originalism and the Law of the Past\n\n
  Location: 1100 Eck Hall of Law Notre Dame IN 46556\n\n
DTSTAMP:20221226T091204Z
END:VEVENT
END:VCALENDAR