BEGIN:VCALENDAR
VERSION:2.0
PRODID:https://fedsoc.org/events/the-unl-federalist-society-presents-a-disc
 ussion-on-election-integrity
BEGIN:VEVENT
UID:63a7af6b3ef7a
DTSTART:20221005T170000Z
SEQUENCE:0
TRANSP:OPAQUE
DTEND:20221005T181500Z
LOCATION:1875 N 42nd St Lincoln  NE 68503
SUMMARY:A Discussion on Election Integrity
CLASS:PUBLIC
X-ALT-DESC;FMTTYPE=text/html:Event: A Discussion on Election Integrity\n\n 
 Location: 1875 N 42nd St Lincoln  NE 68503\n\n
DTSTAMP:20221224T210323Z
END:VEVENT
END:VCALENDAR