BEGIN:VCALENDAR
VERSION:2.0
PRODID:https://fedsoc.org/events/scotus-2021-term-panel-discussion
BEGIN:VEVENT
UID:63a9a33d2e86b
DTSTART:20220930T163000Z
SEQUENCE:0
TRANSP:OPAQUE
DTEND:20220930T174500Z
LOCATION:11200 SW 8th St Miami FL 33199
SUMMARY:SCOTUS 2021 Term
CLASS:PUBLIC
X-ALT-DESC;FMTTYPE=text/html:Event: SCOTUS 2021 Term\n\n Location: 11200 SW
  8th St Miami FL 33199\n\n
DTSTAMP:20221226T083557Z
END:VEVENT
END:VCALENDAR