BEGIN:VCALENDAR
VERSION:2.0
PRODID:https://fedsoc.org/events/40FOR40-SESSION2
BEGIN:VEVENT
UID:63a7c639df4b8
DTSTART:20221019T000000Z
SEQUENCE:0
TRANSP:OPAQUE
DTEND:20221019T004000Z
LOCATION:   
SUMMARY:40 FOR 40 Session 2 — Chicago
CLASS:PUBLIC
X-ALT-DESC;FMTTYPE=text/html:Event: 40 FOR 40 Session 2 — Chicago\n\n Loc
 ation:    \n\n
DTSTAMP:20221224T224041Z
END:VEVENT
END:VCALENDAR