BEGIN:VCALENDAR
VERSION:2.0
PRODID:https://fedsoc.org/events/40FOR40-SESSION1
BEGIN:VEVENT
UID:63a7c5f14d8a1
DTSTART:20221012T000000Z
SEQUENCE:0
TRANSP:OPAQUE
DTEND:20221012T004000Z
LOCATION:   
SUMMARY:40 FOR 40 Session 1 — Yale
CLASS:PUBLIC
X-ALT-DESC;FMTTYPE=text/html:Event: 40 FOR 40 Session 1 — Yale\n\n Locati
 on:    \n\n
DTSTAMP:20221224T223929Z
END:VEVENT
END:VCALENDAR