BEGIN:VCALENDAR
VERSION:2.0
PRODID:https://fedsoc.org/events/careers-in-public-service
BEGIN:VEVENT
UID:63a9f6ac72a3b
DTSTART:20221027T160000Z
SEQUENCE:0
TRANSP:OPAQUE
DTEND:20221027T170000Z
LOCATION:4300 Nebraska Ave. NW Washington DC 20016
SUMMARY:Careers in Public Service
CLASS:PUBLIC
X-ALT-DESC;FMTTYPE=text/html:Event: Careers in Public Service\n\n Location:
  4300 Nebraska Ave. NW Washington DC 20016\n\n
DTSTAMP:20221226T143156Z
END:VEVENT
END:VCALENDAR