BEGIN:VCALENDAR
VERSION:2.0
PRODID:https://fedsoc.org/events/section-230-free-speech-and-the-role-of-st
 ates
BEGIN:VEVENT
UID:63a7d72cc3ac6
DTSTART:20221005T160000Z
SEQUENCE:0
TRANSP:OPAQUE
DTEND:20221005T173000Z
LOCATION:500 W Baltimore St. Baltimore MD 21201
SUMMARY:Section 230: Free Speech and the Role of States
CLASS:PUBLIC
X-ALT-DESC;FMTTYPE=text/html:Event: Section 230: Free Speech and the Role o
 f States\n\n Location: 500 W Baltimore St. Baltimore MD 21201\n\n
DTSTAMP:20221224T235300Z
END:VEVENT
END:VCALENDAR