BEGIN:VCALENDAR
VERSION:2.0
PRODID:https://fedsoc.org/events/west-virginia-v-epa-future-of-the-major-qu
 estions-doctrine-administrative-state
BEGIN:VEVENT
UID:63a9e388e820d
DTSTART:20221018T210000Z
SEQUENCE:0
TRANSP:OPAQUE
DTEND:20221018T223000Z
LOCATION:500 W Baltimore St. Baltimore MD 21201
SUMMARY:West Virginia v. EPA: Future of the Major Questions Doctrine & Admi
 nistrative State 
CLASS:PUBLIC
X-ALT-DESC;FMTTYPE=text/html:Event: West Virginia v. EPA: Future of the Maj
 or Questions Doctrine & Administrative State \n\n Location: 500 W Baltimor
 e St. Baltimore MD 21201\n\n
DTSTAMP:20221226T131016Z
END:VEVENT
END:VCALENDAR