BEGIN:VCALENDAR
VERSION:2.0
PRODID:https://fedsoc.org/events/student-chapters-welcome-to-chicago-event
BEGIN:VEVENT
UID:63a9aee4d661e
DTSTART:20221005T233000Z
SEQUENCE:0
TRANSP:OPAQUE
DTEND:20221006T013000Z
LOCATION:626 N State St Chicago IL 60654
SUMMARY:Student Chapters' Welcome to Chicago Event
CLASS:PUBLIC
X-ALT-DESC;FMTTYPE=text/html:Event: Student Chapters' Welcome to Chicago Ev
 ent\n\n Location: 626 N State St Chicago IL 60654\n\n
DTSTAMP:20221226T092540Z
END:VEVENT
END:VCALENDAR