BEGIN:VCALENDAR
VERSION:2.0
PRODID:https://fedsoc.org/events/the-making-of-dobbs
BEGIN:VEVENT
UID:63a78eef1249a
DTSTART:20220914T163000Z
SEQUENCE:0
TRANSP:OPAQUE
DTEND:20220914T172000Z
LOCATION:3301 Fairfax Drive Arlington VA 22206
SUMMARY:The Making of Dobbs
CLASS:PUBLIC
X-ALT-DESC;FMTTYPE=text/html:Event: The Making of Dobbs\n\n Location: 3301 
 Fairfax Drive Arlington VA 22206\n\n
DTSTAMP:20221224T184447Z
END:VEVENT
END:VCALENDAR