BEGIN:VCALENDAR
VERSION:2.0
PRODID:https://fedsoc.org/events/scotus-round-up-presented-by-professors-pa
 trick-garry-hannah-haksgaard-and-tyler-moore
BEGIN:VEVENT
UID:63a9a5b3402e3
DTSTART:20220928T170000Z
SEQUENCE:0
TRANSP:OPAQUE
DTEND:20220928T180000Z
LOCATION:414 E Clark Street Vermillion SD 57069
SUMMARY:SCOTUS Round-Up
CLASS:PUBLIC
X-ALT-DESC;FMTTYPE=text/html:Event: SCOTUS Round-Up\n\n Location: 414 E Cla
 rk Street Vermillion SD 57069\n\n
DTSTAMP:20221226T084627Z
END:VEVENT
END:VCALENDAR