BEGIN:VCALENDAR
VERSION:2.0
PRODID:https://fedsoc.org/events/what-covid-19-revealed-about-clinician-lic
 ensing
BEGIN:VEVENT
UID:63a7d782bff2f
DTSTART:20221013T203000Z
SEQUENCE:0
TRANSP:OPAQUE
DTEND:20221013T213000Z
LOCATION:E Denny Circle  Lexington VA 24450
SUMMARY:What COVID-19 Revealed about Clinician Licensing 
CLASS:PUBLIC
X-ALT-DESC;FMTTYPE=text/html:Event: What COVID-19 Revealed about Clinician 
 Licensing \n\n Location: E Denny Circle  Lexington VA 24450\n\n
DTSTAMP:20221224T235426Z
END:VEVENT
END:VCALENDAR