BEGIN:VCALENDAR
VERSION:2.0
PRODID:https://fedsoc.org/events/ensuring-election-integrity-and-preventing
 -election-fraud
BEGIN:VEVENT
UID:63a7af65d329d
DTSTART:20221011T190000Z
SEQUENCE:0
TRANSP:OPAQUE
DTEND:20221011T200000Z
LOCATION:5998 Alcala Park San Diego CA 92110
SUMMARY:Ensuring Election Integrity and Preventing Election Fraud
CLASS:PUBLIC
X-ALT-DESC;FMTTYPE=text/html:Event: Ensuring Election Integrity and Prevent
 ing Election Fraud\n\n Location: 5998 Alcala Park San Diego CA 92110\n\n
DTSTAMP:20221224T210317Z
END:VEVENT
END:VCALENDAR