BEGIN:VCALENDAR
VERSION:2.0
PRODID:https://fedsoc.org/events/the-history-and-value-of-the-united-states
 -court-of-federal-claims-with-the-hon-stephen-schwartz
BEGIN:VEVENT
UID:63a9dd62cb2d3
DTSTART:20220922T213000Z
SEQUENCE:0
TRANSP:OPAQUE
DTEND:20220922T223000Z
LOCATION:E Denny Circle  Lexington  VA 24450
SUMMARY:The History and Value of the United States Court of Federal Claims 
CLASS:PUBLIC
X-ALT-DESC;FMTTYPE=text/html:Event: The History and Value of the United Sta
 tes Court of Federal Claims \n\n Location: E Denny Circle  Lexington  VA 2
 4450\n\n
DTSTAMP:20221226T124402Z
END:VEVENT
END:VCALENDAR