BEGIN:VCALENDAR
VERSION:2.0
PRODID:https://fedsoc.org/events/constitution-day-lecture
BEGIN:VEVENT
UID:63a9a8fa20aa0
DTSTART:20220921T161500Z
SEQUENCE:0
TRANSP:OPAQUE
DTEND:20220921T173000Z
LOCATION:1585 Massachusetts Avenue Cambridge MA 02138
SUMMARY:Constitution Day Lecture
CLASS:PUBLIC
X-ALT-DESC;FMTTYPE=text/html:Event: Constitution Day Lecture\n\n Location: 
 1585 Massachusetts Avenue Cambridge MA 02138\n\n
DTSTAMP:20221226T090026Z
END:VEVENT
END:VCALENDAR