BEGIN:VCALENDAR
VERSION:2.0
PRODID:https://fedsoc.org/events/q-a-with-judge-katsas
BEGIN:VEVENT
UID:63a968b1c2996
DTSTART:20220914T223000Z
SEQUENCE:0
TRANSP:OPAQUE
DTEND:20220914T233000Z
LOCATION:10 Patrick Henry Circle Purcellville VA 20132
SUMMARY:Q & A with Judge Katsas 
CLASS:PUBLIC
X-ALT-DESC;FMTTYPE=text/html:Event: Q & A with Judge Katsas \n\n Location: 
 10 Patrick Henry Circle Purcellville VA 20132\n\n
DTSTAMP:20221226T042609Z
END:VEVENT
END:VCALENDAR