BEGIN:VCALENDAR
VERSION:2.0
PRODID:https://fedsoc.org/events/the-fda-and-medical-freedom
BEGIN:VEVENT
UID:63a788e3285e5
DTSTART:20221019T190000Z
SEQUENCE:0
TRANSP:OPAQUE
DTEND:20221019T200000Z
LOCATION:2450 Kittredge Loop Dr. BOULDER CO 80302
SUMMARY:The FDA and Medical Freedom
CLASS:PUBLIC
X-ALT-DESC;FMTTYPE=text/html:Event: The FDA and Medical Freedom\n\n Locatio
 n: 2450 Kittredge Loop Dr. BOULDER CO 80302\n\n
DTSTAMP:20221224T181859Z
END:VEVENT
END:VCALENDAR