BEGIN:VCALENDAR
VERSION:2.0
PRODID:https://fedsoc.org/events/after-dobbs-the-future-of-abortion-law-in-
 america
BEGIN:VEVENT
UID:63a8610a1dc13
DTSTART:20220907T161500Z
SEQUENCE:0
TRANSP:OPAQUE
DTEND:20220907T170000Z
LOCATION:2801 Bancroft St Toledo OH 43606
SUMMARY:After Dobbs: The Future of Abortion Law in America
CLASS:PUBLIC
X-ALT-DESC;FMTTYPE=text/html:Event: After Dobbs: The Future of Abortion Law
  in America\n\n Location: 2801 Bancroft St Toledo OH 43606\n\n
DTSTAMP:20221225T094114Z
END:VEVENT
END:VCALENDAR