BEGIN:VCALENDAR
VERSION:2.0
PRODID:https://fedsoc.org/events/the-declaration-of-independence-a-unique-r
 ole-in-constitutional-interpretation
BEGIN:VEVENT
UID:63a86200661cb
DTSTART:20220921T170000Z
SEQUENCE:0
TRANSP:OPAQUE
DTEND:20220921T180000Z
LOCATION:   
SUMMARY:The Declaration of Independence: A Unique Role in Constitutional In
 terpretation?
CLASS:PUBLIC
X-ALT-DESC;FMTTYPE=text/html:Event: The Declaration of Independence: A Uniq
 ue Role in Constitutional Interpretation?\n\n Location:    \n\n
DTSTAMP:20221225T094520Z
END:VEVENT
END:VCALENDAR