BEGIN:VCALENDAR
VERSION:2.0
PRODID:https://fedsoc.org/events/opioids-the-crisis-in-2022-and-beyond
BEGIN:VEVENT
UID:63a9c249aa2d1
DTSTART:20220810T160000Z
SEQUENCE:0
TRANSP:OPAQUE
DTEND:20220810T170054Z
LOCATION:   
SUMMARY:Opioids: The Crisis in 2022 and Beyond
CLASS:PUBLIC
X-ALT-DESC;FMTTYPE=text/html:Event: Opioids: The Crisis in 2022 and Beyond\
 n\n Location:    \n\n
DTSTAMP:20221226T104825Z
END:VEVENT
END:VCALENDAR