BEGIN:VCALENDAR
VERSION:2.0
PRODID:https://fedsoc.org/events/debate-was-the-constitution-of-1787-a-pro-
 slavery-document
BEGIN:VEVENT
UID:63a9981ba440e
DTSTART:20220928T161500Z
SEQUENCE:0
TRANSP:OPAQUE
DTEND:20220928T173000Z
LOCATION:WCC Cambridge MA 02138
SUMMARY:Debate: Was the Constitution of 1787 a Pro-Slavery Document?
CLASS:PUBLIC
X-ALT-DESC;FMTTYPE=text/html:Event: Debate: Was the Constitution of 1787 a 
 Pro-Slavery Document?\n\n Location: WCC Cambridge MA 02138\n\n
DTSTAMP:20221226T074827Z
END:VEVENT
END:VCALENDAR