BEGIN:VCALENDAR
VERSION:2.0
PRODID:https://fedsoc.org/events/courthouse-steps-decision-webinar-dobbs-v-
 jackson-women-s-health-organization
BEGIN:VEVENT
UID:63a81ef564bbc
DTSTART:20220624T190000Z
SEQUENCE:0
TRANSP:OPAQUE
DTEND:20220624T200000Z
LOCATION:   
SUMMARY:Courthouse Steps Decision Webinar: Dobbs v. Jackson Women’s Healt
 h Organization
CLASS:PUBLIC
X-ALT-DESC;FMTTYPE=text/html:Event: Courthouse Steps Decision Webinar: Dobb
 s v. Jackson Women’s Health Organization\n\n Location:    \n\n
DTSTAMP:20221225T045917Z
END:VEVENT
END:VCALENDAR