BEGIN:VCALENDAR
VERSION:2.0
PRODID:https://fedsoc.org/events/2022-arizona-supreme-court-review
BEGIN:VEVENT
UID:63a7889cc99db
DTSTART:20220720T000000Z
SEQUENCE:0
TRANSP:OPAQUE
DTEND:20220720T030000Z
LOCATION:85021 Phoenix AZ 85021
SUMMARY:2022 Arizona Supreme Court Review
CLASS:PUBLIC
X-ALT-DESC;FMTTYPE=text/html:Event: 2022 Arizona Supreme Court Review\n\n L
 ocation: 85021 Phoenix AZ 85021\n\n
DTSTAMP:20221224T181748Z
END:VEVENT
END:VCALENDAR