BEGIN:VCALENDAR
VERSION:2.0
PRODID:https://fedsoc.org/events/the-use-of-race-in-the-biden-harris-admini
 stration-and-legal-challenges-to-race-based-policymaking
BEGIN:VEVENT
UID:63a81f2737344
DTSTART:20220615T190000Z
SEQUENCE:0
TRANSP:OPAQUE
DTEND:20220615T200000Z
LOCATION:   
SUMMARY:The Use of Race in the Biden-Harris Administration\, and Legal Chal
 lenges to Race-Based Policymaking
CLASS:PUBLIC
X-ALT-DESC;FMTTYPE=text/html:Event: The Use of Race in the Biden-Harris Adm
 inistration\, and Legal Challenges to Race-Based Policymaking\n\n Location
 :    \n\n
DTSTAMP:20221225T050007Z
END:VEVENT
END:VCALENDAR