BEGIN:VCALENDAR
VERSION:2.0
PRODID:https://fedsoc.org/events/courthouse-steps-decision-webinar-morgan-v
 -sundance
BEGIN:VEVENT
UID:63a821df7c895
DTSTART:20220601T173000Z
SEQUENCE:0
TRANSP:OPAQUE
DTEND:20220601T183015Z
LOCATION:   
SUMMARY:Courthouse Steps Decision Webinar: Morgan v. Sundance
CLASS:PUBLIC
X-ALT-DESC;FMTTYPE=text/html:Event: Courthouse Steps Decision Webinar: Morg
 an v. Sundance\n\n Location:    \n\n
DTSTAMP:20221225T051143Z
END:VEVENT
END:VCALENDAR