BEGIN:VCALENDAR
VERSION:2.0
PRODID:https://fedsoc.org/events/courthouse-steps-cummings-v-premier-rehab-
 keller
BEGIN:VEVENT
UID:63a822067cf2c
DTSTART:20220525T180000Z
SEQUENCE:0
TRANSP:OPAQUE
DTEND:20220525T190000Z
LOCATION:   
SUMMARY:Courthouse Steps: Cummings v. Premier Rehab Keller
CLASS:PUBLIC
X-ALT-DESC;FMTTYPE=text/html:Event: Courthouse Steps: Cummings v. Premier R
 ehab Keller\n\n Location:    \n\n
DTSTAMP:20221225T051222Z
END:VEVENT
END:VCALENDAR