BEGIN:VCALENDAR
VERSION:2.0
PRODID:https://fedsoc.org/events/the-future-of-universal-service-after-the-
 infrastructure-act
BEGIN:VEVENT
UID:63a822d247ac2
DTSTART:20220518T170000Z
SEQUENCE:0
TRANSP:OPAQUE
DTEND:20220518T180000Z
LOCATION:   
SUMMARY:The Future of Universal Service After the Infrastructure Act
CLASS:PUBLIC
X-ALT-DESC;FMTTYPE=text/html:Event: The Future of Universal Service After t
 he Infrastructure Act\n\n Location:    \n\n
DTSTAMP:20221225T051546Z
END:VEVENT
END:VCALENDAR