BEGIN:VCALENDAR
VERSION:2.0
PRODID:https://fedsoc.org/events/ten-years-on-the-america-invents-act-and-t
 he-role-of-the-patent-trial-and-appeal-board-in-resolving-patent-disputes
BEGIN:VEVENT
UID:63a828ff4318f
DTSTART:20220426T173000Z
SEQUENCE:0
TRANSP:OPAQUE
DTEND:20220426T183000Z
LOCATION:   
SUMMARY:Ten Years On: The America Invents Act and the role of the Patent Tr
 ial and Appeal Board in resolving patent disputes
CLASS:PUBLIC
X-ALT-DESC;FMTTYPE=text/html:Event: Ten Years On: The America Invents Act a
 nd the role of the Patent Trial and Appeal Board in resolving patent dispu
 tes\n\n Location:    \n\n
DTSTAMP:20221225T054207Z
END:VEVENT
END:VCALENDAR