BEGIN:VCALENDAR
VERSION:2.0
PRODID:https://fedsoc.org/events/courthouse-steps-oral-argument-webinar-ken
 nedy-v-bremerton-school-district
BEGIN:VEVENT
UID:63a82910445a6
DTSTART:20220425T180000Z
SEQUENCE:0
TRANSP:OPAQUE
DTEND:20220425T190000Z
LOCATION:   
SUMMARY: Courthouse Steps Oral Argument Webinar: Kennedy v. Bremerton Schoo
 l District
CLASS:PUBLIC
X-ALT-DESC;FMTTYPE=text/html:Event:  Courthouse Steps Oral Argument Webinar
 : Kennedy v. Bremerton School District\n\n Location:    \n\n
DTSTAMP:20221225T054224Z
END:VEVENT
END:VCALENDAR