BEGIN:VCALENDAR
VERSION:2.0
PRODID:https://fedsoc.org/events/courthouse-steps-decision-webinar-hemphill
 -v-new-york
BEGIN:VEVENT
UID:63a827ed82b59
DTSTART:20220504T160032Z
SEQUENCE:0
TRANSP:OPAQUE
DTEND:20220504T170038Z
LOCATION:   
SUMMARY:Courthouse Steps Decision Webinar: Hemphill v. New York
CLASS:PUBLIC
X-ALT-DESC;FMTTYPE=text/html:Event: Courthouse Steps Decision Webinar: Hemp
 hill v. New York\n\n Location:    \n\n
DTSTAMP:20221225T053733Z
END:VEVENT
END:VCALENDAR