BEGIN:VCALENDAR
VERSION:2.0
PRODID:https://fedsoc.org/events/courthouse-steps-decision-webinar-badgerow
 -v-walters
BEGIN:VEVENT
UID:63a8282d3d4cc
DTSTART:20220428T160033Z
SEQUENCE:0
TRANSP:OPAQUE
DTEND:20220428T170040Z
LOCATION:   
SUMMARY:Courthouse Steps Decision Webinar: Badgerow v. Walters
CLASS:PUBLIC
X-ALT-DESC;FMTTYPE=text/html:Event: Courthouse Steps Decision Webinar: Badg
 erow v. Walters\n\n Location:    \n\n
DTSTAMP:20221225T053837Z
END:VEVENT
END:VCALENDAR