BEGIN:VCALENDAR
VERSION:2.0
PRODID:https://fedsoc.org/events/courthouse-steps-decision-webinar-united-s
 tates-v-tsarnaev
BEGIN:VEVENT
UID:63a827fcecc29
DTSTART:20220421T173018Z
SEQUENCE:0
TRANSP:OPAQUE
DTEND:20220421T183028Z
LOCATION:   
SUMMARY:Courthouse Steps Decision Webinar: United States v. Tsarnaev
CLASS:PUBLIC
X-ALT-DESC;FMTTYPE=text/html:Event: Courthouse Steps Decision Webinar: Unit
 ed States v. Tsarnaev\n\n Location:    \n\n
DTSTAMP:20221225T053748Z
END:VEVENT
END:VCALENDAR