BEGIN:VCALENDAR
VERSION:2.0
PRODID:https://fedsoc.org/events/judicial-ethics-in-the-modern-era
BEGIN:VEVENT
UID:63a828a2ad8bc
DTSTART:20220419T170000Z
SEQUENCE:0
TRANSP:OPAQUE
DTEND:20220419T180000Z
LOCATION:   
SUMMARY:Judicial Ethics in the Modern Era
CLASS:PUBLIC
X-ALT-DESC;FMTTYPE=text/html:Event: Judicial Ethics in the Modern Era\n\n L
 ocation:    \n\n
DTSTAMP:20221225T054034Z
END:VEVENT
END:VCALENDAR