BEGIN:VCALENDAR
VERSION:2.0
PRODID:https://fedsoc.org/events/issue-update-woke-capital
BEGIN:VEVENT
UID:63a9b9c0a173f
DTSTART:20220413T170000Z
SEQUENCE:0
TRANSP:OPAQUE
DTEND:20220413T180000Z
LOCATION:   
SUMMARY:Issue Update: Woke Capital
CLASS:PUBLIC
X-ALT-DESC;FMTTYPE=text/html:Event: Issue Update: Woke Capital\n\n Location
 :    \n\n
DTSTAMP:20221226T101200Z
END:VEVENT
END:VCALENDAR