BEGIN:VCALENDAR
VERSION:2.0
PRODID:https://fedsoc.org/events/marijuana-the-states-the-current-status-of
 -legalization-and-federal-interaction
BEGIN:VEVENT
UID:63a9e47edcc28
DTSTART:20220406T160000Z
SEQUENCE:0
TRANSP:OPAQUE
DTEND:20220406T170000Z
LOCATION:1825 W. Rocket Dr. Toledo OH 43606
SUMMARY:Marijuana & the States: the Current Status of Legalization and Fede
 ral Interaction
CLASS:PUBLIC
X-ALT-DESC;FMTTYPE=text/html:Event: Marijuana & the States: the Current Sta
 tus of Legalization and Federal Interaction\n\n Location: 1825 W. Rocket D
 r. Toledo OH 43606\n\n
DTSTAMP:20221226T131422Z
END:VEVENT
END:VCALENDAR