BEGIN:VCALENDAR
VERSION:2.0
PRODID:https://fedsoc.org/events/state-constitutionalism-freedom-s-frontier
BEGIN:VEVENT
UID:63a9e80fa5a30
DTSTART:20220329T170000Z
SEQUENCE:0
TRANSP:OPAQUE
DTEND:20220329T180000Z
LOCATION:375 E. Chicago Ave. Chicago IL 60661
SUMMARY:State Constitutionalism: Freedom's Frontier
CLASS:PUBLIC
X-ALT-DESC;FMTTYPE=text/html:Event: State Constitutionalism: Freedom's Fron
 tier\n\n Location: 375 E. Chicago Ave. Chicago IL 60661\n\n
DTSTAMP:20221226T132935Z
END:VEVENT
END:VCALENDAR